BEGIN:VCALENDAR
VERSION:2.0
PRODID:-//hacksw/handcal//NONSGML v1.0//EN
BEGIN:VEVENT
UID:52837787515da9f17550499167ee091baktivskola.org
DTSTAMP:20260421T122622
DTSTART:20261117T130000
DTEND:20261117T160000
SUMMARY:Nätsmart &#8211; Växjö - En föreläsning från Aktiv Skola
DESCRIPTION:En föreläsning av Aktiv Skola. \n\nLäs mer om föreläsningen här: https://aktivskola.org/forelasning/natsmart-2026-11-17-skolpersonal/
LOCATION:Växjö
URL:https://aktivskola.org/forelasning/natsmart-2026-11-17-skolpersonal/
END:VEVENT
END:VCALENDAR